BEGIN:VCALENDAR
VERSION:2.0
PRODID:-//China-Kompetenznetzwerk für den Wissenschaftsstandort Ruhr Niederrhein  - ECPv6.15.18//NONSGML v1.0//EN
CALSCALE:GREGORIAN
METHOD:PUBLISH
X-ORIGINAL-URL:https://www.cnetrnr.de
X-WR-CALDESC:Veranstaltungen für China-Kompetenznetzwerk für den Wissenschaftsstandort Ruhr Niederrhein 
REFRESH-INTERVAL;VALUE=DURATION:PT1H
X-Robots-Tag:noindex
X-PUBLISHED-TTL:PT1H
BEGIN:VTIMEZONE
TZID:Europe/Berlin
BEGIN:DAYLIGHT
TZOFFSETFROM:+0100
TZOFFSETTO:+0200
TZNAME:CEST
DTSTART:20250330T010000
END:DAYLIGHT
BEGIN:STANDARD
TZOFFSETFROM:+0200
TZOFFSETTO:+0100
TZNAME:CET
DTSTART:20251026T010000
END:STANDARD
BEGIN:DAYLIGHT
TZOFFSETFROM:+0100
TZOFFSETTO:+0200
TZNAME:CEST
DTSTART:20260329T010000
END:DAYLIGHT
BEGIN:STANDARD
TZOFFSETFROM:+0200
TZOFFSETTO:+0100
TZNAME:CET
DTSTART:20261025T010000
END:STANDARD
BEGIN:DAYLIGHT
TZOFFSETFROM:+0100
TZOFFSETTO:+0200
TZNAME:CEST
DTSTART:20270328T010000
END:DAYLIGHT
BEGIN:STANDARD
TZOFFSETFROM:+0200
TZOFFSETTO:+0100
TZNAME:CET
DTSTART:20271031T010000
END:STANDARD
END:VTIMEZONE
BEGIN:VEVENT
DTSTART;TZID=Europe/Berlin:20260520T113000
DTEND;TZID=Europe/Berlin:20260520T130000
DTSTAMP:20260420T074938
CREATED:20260416T093345Z
LAST-MODIFIED:20260416T093345Z
UID:1612-1779276600-1779282000@www.cnetrnr.de
SUMMARY:Netzwerktreffen Q2/2026
DESCRIPTION:Das Team des C-NET RNR lädt für Mittwoch\, den 20. Mai 2026 herzlich zum nächsten Netzwerktreffen ein. Wir treffen uns von 11:30 bis 12:45 Uhr digital via Zoom. Damit wir pünktlich starten können\, bitten wir Sie\, dem Meeting um 11:25 Uhr beizutreten. Das Programm finden Sie in Kürze an dieser Stelle. \nIhre Themenvorschläge nehmen wir gerne mit auf und stehen unter info@cnetrnr.de für Ihre Rückfragen zur Verfügung. \nWir freuen uns auf den Austausch mit Ihnen!
URL:https://www.cnetrnr.de/veranstaltungen/netzwerktreffen-q2-2026/
LOCATION:Zoom
END:VEVENT
END:VCALENDAR